BEGIN:VCALENDAR
VERSION:2.0
PRODID:-//PYVOBJECT//NONSGML Version 0.9.9//EN
X-WR-TIMEZONE:Africa/Johannesburg
BEGIN:VTIMEZONE
TZID:Africa/Johannesburg
BEGIN:STANDARD
DTSTART:20000101T000000
RRULE:FREQ=YEARLY;BYMONTH=1
TZNAME:SAST
TZOFFSETFROM:+0200
TZOFFSETTO:+0200
END:STANDARD
END:VTIMEZONE
BEGIN:VEVENT
UID:20260422T190505Z - 33215@eos-content
DTSTART;TZID=Africa/Johannesburg:20260425T140000
DTEND;TZID=Africa/Johannesburg:20260425T160000
ATTENDEE:MAILTO:michael@jawitzroodepoort.co.za
DESCRIPTION:https://www.jawitz.co.za/results/residential/for-sale/krugersdo
 rp/lewisham/house/3126686/2-michael-dames-street/\n\nPlease follow the poi
 nter boards from Corner Adkock and Michael Dames Streets.\n\nMichael Mondl
 hane (076 680 1079)
DTSTAMP:20260422T190505Z
LOCATION:2 Michael Dames Street\, Lewisham\, Krugersdorp
SUMMARY:Jawitz Properties Show Day - JRL40804
END:VEVENT
END:VCALENDAR
