BEGIN:VCALENDAR
VERSION:2.0
PRODID:-//PYVOBJECT//NONSGML Version 0.9.9//EN
X-WR-TIMEZONE:Africa/Johannesburg
BEGIN:VTIMEZONE
TZID:Africa/Johannesburg
BEGIN:STANDARD
DTSTART:20000101T000000
RRULE:FREQ=YEARLY;BYMONTH=1
TZNAME:SAST
TZOFFSETFROM:+0200
TZOFFSETTO:+0200
END:STANDARD
END:VTIMEZONE
BEGIN:VEVENT
UID:20260421T131425Z - 62435@eos-content
DTSTART;TZID=Africa/Johannesburg:20260422T160000
DTEND;TZID=Africa/Johannesburg:20260422T170000
ATTENDEE:MAILTO:tyrique@eersteriverjawitz.co.za
DESCRIPTION:https://www.jawitz.co.za/results/residential/for-sale/eersteriv
 ier/beverly-park/house/3125289/\n\n24 Beefwood\n\nTyrique Pienaar (076 706
  4368)
DTSTAMP:20260421T131425Z
LOCATION:Beverly Park\, Eersterivier
SUMMARY:Jawitz Properties Show Day - JRL40760
END:VEVENT
END:VCALENDAR
