BEGIN:VCALENDAR
VERSION:2.0
PRODID:-//PYVOBJECT//NONSGML Version 0.9.9//EN
X-WR-TIMEZONE:Africa/Johannesburg
BEGIN:VTIMEZONE
TZID:Africa/Johannesburg
BEGIN:STANDARD
DTSTART:20000101T000000
RRULE:FREQ=YEARLY;BYMONTH=1
TZNAME:SAST
TZOFFSETFROM:+0200
TZOFFSETTO:+0200
END:STANDARD
END:VTIMEZONE
BEGIN:VEVENT
UID:20260423T091659Z - 91048@eos-content
DTSTART;TZID=Africa/Johannesburg:20260426T140000
DTEND;TZID=Africa/Johannesburg:20260426T160000
ATTENDEE:MAILTO:angela@jawitzhelderberg.co.za
DESCRIPTION:https://www.jawitz.co.za/results/residential/for-sale/somerset-
 west/croydon/house/3090868/6-manchester-street/\n\n6 Manchester Street\, C
 roydon\n\nAngela Makoromoke (071 855 9394)
DTSTAMP:20260423T091659Z
LOCATION:6 Manchester Street\, Croydon\, Somerset West
SUMMARY:Jawitz Properties Show Day - JRL39916
END:VEVENT
END:VCALENDAR
