BEGIN:VCALENDAR
VERSION:2.0
PRODID:-//PYVOBJECT//NONSGML Version 0.9.9//EN
X-WR-TIMEZONE:Africa/Johannesburg
BEGIN:VTIMEZONE
TZID:Africa/Johannesburg
BEGIN:STANDARD
DTSTART:20000101T000000
RRULE:FREQ=YEARLY;BYMONTH=1
TZNAME:SAST
TZOFFSETFROM:+0200
TZOFFSETTO:+0200
END:STANDARD
END:VTIMEZONE
BEGIN:VEVENT
UID:20260425T155822Z - 91794@eos-content
DTSTART;TZID=Africa/Johannesburg:20260426T143000
DTEND;TZID=Africa/Johannesburg:20260426T163000
ATTENDEE:MAILTO:nadiam@jawitz.co.za
DESCRIPTION:https://www.jawitz.co.za/results/residential/for-sale/midrand/n
 oordwyk/cluster/3073566/\n\nContact the agent\n\nNadia Moosa (082 496 4554
 )
DTSTAMP:20260425T155822Z
LOCATION:Noordwyk\, Midrand
SUMMARY:Jawitz Properties Show Day - JRL39506
END:VEVENT
END:VCALENDAR
