BEGIN:VCALENDAR
VERSION:2.0
PRODID:-//PYVOBJECT//NONSGML Version 0.9.9//EN
X-WR-TIMEZONE:Africa/Johannesburg
BEGIN:VTIMEZONE
TZID:Africa/Johannesburg
BEGIN:STANDARD
DTSTART:20000101T000000
RRULE:FREQ=YEARLY;BYMONTH=1
TZNAME:SAST
TZOFFSETFROM:+0200
TZOFFSETTO:+0200
END:STANDARD
END:VTIMEZONE
BEGIN:VEVENT
UID:20260422T084640Z - 19694@eos-content
DTSTART;TZID=Africa/Johannesburg:20260425T110000
DTEND;TZID=Africa/Johannesburg:20260425T140000
ATTENDEE:MAILTO:wendy@jawitzhelderberg.co.za
DESCRIPTION:https://www.jawitz.co.za/results/residential/for-sale/gordons-b
 ay/whispering-pines/apartment/3046277/96-oasis-47-disa/\n\n96 Oasis\, 47 D
 isa Road\, Gordons Bay\n\nWendy Jeary (082 459 8323)
DTSTAMP:20260422T084640Z
LOCATION:96 Oasis\, 47 Disa\, Whispering Pines\, Gordons Bay
SUMMARY:Jawitz Properties Show Day - JRL39023
END:VEVENT
END:VCALENDAR
