BEGIN:VCALENDAR
VERSION:2.0
PRODID:-//PYVOBJECT//NONSGML Version 0.9.9//EN
X-WR-TIMEZONE:Africa/Johannesburg
BEGIN:VTIMEZONE
TZID:Africa/Johannesburg
BEGIN:STANDARD
DTSTART:20000101T000000
RRULE:FREQ=YEARLY;BYMONTH=1
TZNAME:SAST
TZOFFSETFROM:+0200
TZOFFSETTO:+0200
END:STANDARD
END:VTIMEZONE
BEGIN:VEVENT
UID:20260424T114820Z - 32687@eos-content
DTSTART;TZID=Africa/Johannesburg:20260424T163000
DTEND;TZID=Africa/Johannesburg:20260424T173000
ATTENDEE:MAILTO:tyrique@eersteriverjawitz.co.za
DESCRIPTION:https://www.jawitz.co.za/results/residential/for-sale/eersteriv
 ier/stratford-green/apartment/3039679/\n\n13 Chardonnay\n\nTyrique Pienaar
  (076 706 4368)
DTSTAMP:20260424T114820Z
LOCATION:Stratford Green\, Eersterivier
SUMMARY:Jawitz Properties Show Day - JRL38870
END:VEVENT
END:VCALENDAR
