BEGIN:VCALENDAR
VERSION:2.0
PRODID:-//PYVOBJECT//NONSGML Version 0.9.9//EN
X-WR-TIMEZONE:Africa/Johannesburg
BEGIN:VTIMEZONE
TZID:Africa/Johannesburg
BEGIN:STANDARD
DTSTART:20000101T000000
RRULE:FREQ=YEARLY;BYMONTH=1
TZNAME:SAST
TZOFFSETFROM:+0200
TZOFFSETTO:+0200
END:STANDARD
END:VTIMEZONE
BEGIN:VEVENT
UID:20260420T214659Z - 77811@eos-content
DTSTART;TZID=Africa/Johannesburg:20260422T140000
DTEND;TZID=Africa/Johannesburg:20260422T143000
ATTENDEE:MAILTO:zinzin@jawitz.co.za
ATTENDEE:MAILTO:meganlo@jawitz.co.za
DESCRIPTION:https://www.jawitz.co.za/results/residential/for-sale/cape-town
 /cape-town-city-centre/apartment/2930502/\n\nTo view please call Zinzi Nko
 nki on 081 279 4828\n\nZinzi Nkonki (081 279 4828)\n\nMegan Lloyd (084 412
  7888)
DTSTAMP:20260420T214659Z
LOCATION:Cape Town City Centre\, Cape Town
SUMMARY:Jawitz Properties Show Day - JRL35856
END:VEVENT
END:VCALENDAR
